BEGIN:VCALENDAR
VERSION:2.0
PRODID:-//ical.marudot.com//iCal Event Maker
X-WR-CALNAME:dhd_ag_coll
NAME:dhd_ag_coll
CALSCALE:GREGORIAN
BEGIN:VTIMEZONE
TZID:Europe/Berlin
LAST-MODIFIED:20250410T142247Z
TZURL:https://www.tzurl.org/zoneinfo-outlook/Europe/Berlin
X-LIC-LOCATION:Europe/Berlin
BEGIN:DAYLIGHT
TZNAME:CEST
TZOFFSETFROM:+0100
TZOFFSETTO:+0200
DTSTART:19700329T020000
RRULE:FREQ=YEARLY;BYMONTH=3;BYDAY=-1SU
END:DAYLIGHT
BEGIN:STANDARD
TZNAME:CET
TZOFFSETFROM:+0200
TZOFFSETTO:+0100
DTSTART:19701025T030000
RRULE:FREQ=YEARLY;BYMONTH=10;BYDAY=-1SU
END:STANDARD
END:VTIMEZONE
BEGIN:VEVENT
DTSTAMP:20260303T122611Z
UID:1772540719473-98346@ical.marudot.com
DTSTART;TZID=Europe/Berlin:20260313T140000
RRULE:FREQ=MONTHLY;BYDAY=2FR
DTEND;TZID=Europe/Berlin:20260313T150000
SUMMARY:AG Sammlungen als Daten – monatliche Routinerunde
DESCRIPTION:
LOCATION:https://zib-de.zoom.us/j/66906547695?pwd=orIgOCm3HnrlYWTZ3nKD7J2AIOGxBt.1
BEGIN:VALARM
ACTION:DISPLAY
DESCRIPTION:AG Sammlungen als Daten – monatliche Routinerunde
TRIGGER:-PT1H
END:VALARM
END:VEVENT
END:VCALENDAR
